BEGIN:VCALENDAR
VERSION:2.0
PRODID:-//Dança em Arena - ECPv5.8.1//NONSGML v1.0//EN
CALSCALE:GREGORIAN
METHOD:PUBLISH
X-WR-CALNAME:Dança em Arena
X-ORIGINAL-URL:https://andreathomioka.art.br
X-WR-CALDESC:Eventos para Dança em Arena
BEGIN:VTIMEZONE
TZID:America/Sao_Paulo
BEGIN:STANDARD
TZOFFSETFROM:-0300
TZOFFSETTO:-0300
TZNAME:-03
DTSTART:20200101T000000
END:STANDARD
END:VTIMEZONE
BEGIN:VEVENT
DTSTART;VALUE=DATE:20200715
DTEND;VALUE=DATE:20200811
DTSTAMP:20260423T195509
CREATED:20200721T221303Z
LAST-MODIFIED:20200721T221303Z
UID:353-1594771200-1597103999@andreathomioka.art.br
SUMMARY:Two exclusive film premieres by Sol León and Paul Lightfoot - Nederlands Dans Theaterer - NDT
DESCRIPTION:In light of this being NDT’s 60th anniversary season\, and also a farewell to house choreographers Sol León and Paul Lightfoot\, The duo created two world premieres which will be captured exclusively on film. These films are created\, along with the dancers of NDT 1 and NDT 2. Both projects choreographed using the stipulations and protocol of social-distancing as its metiér. \nDigital premiere: Wednesday July 15\, at 20.00 uur (CET). \nWhere: on this page NDTV and the NDT YouTube Channel. \nWatch the films for free until: August 10th\, 2020.
URL:https://andreathomioka.art.br/event/two-exclusive-film-premieres-by-sol-leon-and-paul-lightfoot-nederlands-dans-theaterer-ndt/
CATEGORIES:Registros de espetáculos
ATTACH;FMTTYPE=image/jpeg:https://andreathomioka.art.br/wp-content/uploads/2020/07/109500057_6196879257587_799395021323658956_n.jpg
END:VEVENT
END:VCALENDAR