BEGIN:VCALENDAR
VERSION:2.0
PRODID:-//Dança em Arena - ECPv5.8.1//NONSGML v1.0//EN
CALSCALE:GREGORIAN
METHOD:PUBLISH
X-WR-CALNAME:Dança em Arena
X-ORIGINAL-URL:https://andreathomioka.art.br
X-WR-CALDESC:Eventos para Dança em Arena
BEGIN:VTIMEZONE
TZID:America/Sao_Paulo
BEGIN:STANDARD
TZOFFSETFROM:-0300
TZOFFSETTO:-0300
TZNAME:-03
DTSTART:20200101T000000
END:STANDARD
END:VTIMEZONE
BEGIN:VEVENT
DTSTART;TZID=America/Sao_Paulo:20201113T200000
DTEND;TZID=America/Sao_Paulo:20201113T233000
DTSTAMP:20260425T160244
CREATED:20201111T155459Z
LAST-MODIFIED:20201112T165409Z
UID:542-1605297600-1605310200@andreathomioka.art.br
SUMMARY:#ParanoiaConfinado - a estreia tão aguardada pelo Dança em Arena!
DESCRIPTION:O Dança em Arena deu spoiler lá na Sala de Ensaio e comemora a estreia do #ParanoiaConfinado da Companhia de Danças de Diadema! \n#ParanoiaConfinado\, com a Companhia de Danças de Diadema\n13 de novembro – às 20h\nGratuito – transmissão pelo YouTube \nAlém da apresentação da Companhia de Danças de Diadema\, teremos na sequência um bate-papo com a coreógrafa e diretora Ana Bottosso e bailarinos do grupo.\nA transmissão ao vivo acontece pelos Canais do Youtube do SESC Santo André e do SESC São Caetano. \nE no compasso dessa estreia\, também neste momento\, celebramos a abertura da 15ª Edição do ABCDança. \nDançar é\, antes dos padrões estéticos\, uma forma de socializar. Movimentos coreografados carregam traços de diversas culturas e pensamentos\, funcionam como instrumento histórico ao retratar a manifestação do indivíduo que dança diante do mundo que habita\, acompanhado ou não de uma trilha sonora.\nNesse aspecto\, a criação do espetáculo #ParanoiaConfinado surgiu da percepção dos bailarinos da Companhia de Danças de Diadema de que estavam todos em suas casas com seus corpos reconfigurados para um espaço e tempo incomuns. A partir desse lugar\, a coreógrafa Ana Bottosso\, diretora do grupo\, decidiu recriar um espetáculo do repertório da Companhia\, “Paranoia”\, inspirado na obra homônima do poeta Roberto Piva. \nSobre o ABCDança:\nDizem que “quem dança seus males espanta”.\nAssim\, tanto para a cultura quanto para a expressão humana – dançar é uma manifestação artística que utiliza como linguagem o próprio corpo como transmissor de sentimentos\, personalidades e vivacidade.\nCom essa finalidade\, o ABCDança chega promovendo ações de difusão\, reflexão e uma residência artística voltada aos artistas da dança do ABCD. \nLembrando que por conta da pandemia de COVID 19\, este ano o festival acontece somente nos canais digitais do @sescsantoandre e @sescsaocaetano. \nQuer saber mais\, siga a Companhia de Danças de Diadema pelo Instagram.
URL:https://andreathomioka.art.br/event/paranoia-confinado-a-estreia-tao-aguardada-pelo-danca-em-arena/
ATTACH;FMTTYPE=image/jpeg:https://andreathomioka.art.br/wp-content/uploads/2020/11/Banner-e1605109998128.jpeg
END:VEVENT
END:VCALENDAR